BEGIN:VCALENDAR
VERSION:2.0
PRODID:-//Squarespace Inc/Squarespace 6//v6//EN
BEGIN:VEVENT
UID:5d4d2f21e4fa4d0001d270af@squarespace.com
DTSTAMP:20191018T102831Z
DTSTART:20191208T030000Z
DTEND:20191208T054500Z
SUMMARY:November HypnoBirthing Course Class #5 
GEO:-36.768476;144.29245
LOCATION:Intuitive Birthing\, 107 Sternberg Street\, Kennington\, VIC\, 355
 0\, Australia
END:VEVENT
END:VCALENDAR
