BEGIN:VCALENDAR
VERSION:2.0
PRODID:-//Squarespace Inc/Squarespace 6//v6//EN
BEGIN:VEVENT
UID:5cdbc7c08b1570000118ba5c@squarespace.com
DTSTAMP:20190703T135802Z
DTSTART:20190818T003000Z
DTEND:20190818T030000Z
SUMMARY:{FREE} PREPARING FOR A PEACEFUL POSTNATAL 
GEO:-36.768476;144.29245
LOCATION:Intuitive Birthing\, 107 Sternberg Street\, Kennington\, VIC\, 355
 0\, Australia
END:VEVENT
END:VCALENDAR
