BEGIN:VCALENDAR
VERSION:2.0
PRODID:-//Squarespace Inc/Squarespace 6//v6//EN
BEGIN:VEVENT
UID:5cdbc5cdfa0d60313577be9e@squarespace.com
DTSTAMP:20190515T080312Z
DTSTART:20190623T010000Z
DTEND:20190623T033000Z
SUMMARY:{FREE} PREPARING FOR A PEACEFUL POSTNATAL 
GEO:-36.768476;144.29245
LOCATION:Intuitive Birthing\, 107 Sternberg Street\, Kennington\, VIC\, 355
 0\, Australia
END:VEVENT
END:VCALENDAR
