BEGIN:VCALENDAR
VERSION:2.0
PRODID:-//Squarespace Inc/Squarespace 6//v6//EN
BEGIN:VEVENT
UID:5d4d24d46cd4d20001085fe1@squarespace.com
DTSTAMP:20190809T075104Z
DTSTART:20190820T080000Z
DTEND:20190820T104500Z
SUMMARY:August/September HypnoBirthing Course Class #1
GEO:-36.75993;144.280752
LOCATION:Barre Society\, 281A Hargreaves Street\, Bendigo\, VIC\, 3550\, Au
 stralia
END:VEVENT
END:VCALENDAR
