BEGIN:VCALENDAR
VERSION:2.0
PRODID:-//Squarespace Inc/Squarespace 6//v6//EN
BEGIN:VEVENT
UID:5d4d25ff179e840001f49678@squarespace.com
DTSTAMP:20190809T080123Z
DTSTART:20190827T080000Z
DTEND:20190827T104500Z
SUMMARY:August/September HypnoBirthing Course Class #2 
GEO:-36.75993;144.280752
LOCATION:Intuitive Birthing @ Barre Society\, 281A Hargreaves Street\, Bend
 igo 3550\, Australia
END:VEVENT
END:VCALENDAR
