BEGIN:VCALENDAR
VERSION:2.0
PRODID:-//Squarespace Inc/Squarespace 6//v6//EN
BEGIN:VEVENT
UID:5e32aef6dccb3e3e70b76fd4@squarespace.com
DTSTAMP:20200130T102544Z
DTSTART:20200322T033000Z
DTEND:20200322T061500Z
SUMMARY:March HypnoBirthing Course Class #1
GEO:-36.768479;144.292546
LOCATION:Intuitive Birthing\, 107 Sternberg Street\, Kennington\, VIC\, 355
 0\, Australia
END:VEVENT
END:VCALENDAR
