BEGIN:VCALENDAR
VERSION:2.0
PRODID:-//Squarespace Inc/Squarespace 6//v6//EN
BEGIN:VEVENT
UID:5e32ad418a92c82fc8129c07@squarespace.com
DTSTAMP:20200130T101852Z
DTSTART:20200204T073000Z
DTEND:20200204T101500Z
SUMMARY:February HypnoBirthing Course Class #1
GEO:-36.75993;144.280752
LOCATION:Intuitive Birthing\, Barre Society\, 281A Hargreaves Street Bendig
 o\, Australia
END:VEVENT
END:VCALENDAR
