BEGIN:VCALENDAR
VERSION:2.0
PRODID:-//Squarespace Inc/Squarespace 6//v6//EN
BEGIN:VEVENT
UID:5d4d28aa179e840001f4a5eb@squarespace.com
DTSTAMP:20190809T080726Z
DTSTART:20190917T080000Z
DTEND:20190917T104500Z
SUMMARY:August/September HypnoBirthing Course Class #5 
GEO:-36.75993;144.280752
LOCATION:Intuitive Birthing @ Barre Society\, 281A Hargreaves Street\, Bend
 igo\, VIC\, 3550\, Australia
END:VEVENT
END:VCALENDAR
