BEGIN:VCALENDAR
VERSION:2.0
PRODID:-//Squarespace Inc/Squarespace 6//v6//EN
BEGIN:VEVENT
UID:5d4d271004b15a0001d9af21@squarespace.com
DTSTAMP:20190809T075811Z
DTSTART:20190903T080000Z
DTEND:20190903T104500Z
SUMMARY:August/September HypnoBirthing Course Class #3 
GEO:-36.75993;144.280752
LOCATION:Intuitive Birthing@ Barre Society\, 281A Hargreaves Street\, Bendi
 go 3550\, Australia
END:VEVENT
END:VCALENDAR
